BEGIN:VCALENDAR
VERSION:2.0
PRODID:-//The Clinic Hub - ECPv4.6.18//NONSGML v1.0//EN
CALSCALE:GREGORIAN
METHOD:PUBLISH
X-WR-CALNAME:The Clinic Hub
X-ORIGINAL-URL:https://theclinichub.com.au
X-WR-CALDESC:Events for The Clinic Hub
BEGIN:VEVENT
DTSTART;TZID=Australia/Brisbane:20180321T120000
DTEND;TZID=Australia/Brisbane:20180321T130000
DTSTAMP:20210228T173001
CREATED:20180205T232008Z
LAST-MODIFIED:20180307T053433Z
UID:522-1521633600-1521637200@theclinichub.com.au
SUMMARY:Counsellor
DESCRIPTION:
URL:https://theclinichub.com.au/event/counsellor-6/
LOCATION:3/4 Mary Ring Drive\, Samford\, QLD\, 4520\, Australia
GEO:-27.3724535;152.8855876
X-APPLE-STRUCTURED-LOCATION;VALUE=URI;X-ADDRESS=3/4 Mary Ring Drive Samford QLD 4520 Australia;X-APPLE-RADIUS=500;X-TITLE=3/4 Mary Ring Drive:geo:152.8855876,-27.3724535
END:VEVENT
END:VCALENDAR