BEGIN:VCALENDAR
VERSION:2.0
PRODID:-//The Clinic Hub - ECPv4.6.18//NONSGML v1.0//EN
CALSCALE:GREGORIAN
METHOD:PUBLISH
X-WR-CALNAME:The Clinic Hub
X-ORIGINAL-URL:https://theclinichub.com.au
X-WR-CALDESC:Events for The Clinic Hub
BEGIN:VEVENT
DTSTART;TZID=Australia/Brisbane:20180215T073000
DTEND;TZID=Australia/Brisbane:20180215T150000
DTSTAMP:20210228T173244
CREATED:20180205T232531Z
LAST-MODIFIED:20180205T232531Z
UID:533-1518679800-1518706800@theclinichub.com.au
SUMMARY:Psychologist
DESCRIPTION:
URL:https://theclinichub.com.au/event/psychologist-2/
LOCATION:3/4 Mary Ring Drive\, Samford\, QLD\, 4520\, Australia
GEO:-27.3724535;152.8855876
X-APPLE-STRUCTURED-LOCATION;VALUE=URI;X-ADDRESS=3/4 Mary Ring Drive Samford QLD 4520 Australia;X-APPLE-RADIUS=500;X-TITLE=3/4 Mary Ring Drive:geo:152.8855876,-27.3724535
END:VEVENT
END:VCALENDAR